BEGIN:VCALENDAR
VERSION:2.0
PRODID:-//The Paper Bag Players Store - ECPv6.15.14//NONSGML v1.0//EN
CALSCALE:GREGORIAN
METHOD:PUBLISH
X-ORIGINAL-URL:https://store.thepaperbagplayers.org
X-WR-CALDESC:Events for The Paper Bag Players Store
REFRESH-INTERVAL;VALUE=DURATION:PT1H
X-Robots-Tag:noindex
X-PUBLISHED-TTL:PT1H
BEGIN:VTIMEZONE
TZID:America/New_York
BEGIN:DAYLIGHT
TZOFFSETFROM:-0500
TZOFFSETTO:-0400
TZNAME:EDT
DTSTART:20240310T070000
END:DAYLIGHT
BEGIN:STANDARD
TZOFFSETFROM:-0400
TZOFFSETTO:-0500
TZNAME:EST
DTSTART:20241103T060000
END:STANDARD
BEGIN:DAYLIGHT
TZOFFSETFROM:-0500
TZOFFSETTO:-0400
TZNAME:EDT
DTSTART:20250309T070000
END:DAYLIGHT
BEGIN:STANDARD
TZOFFSETFROM:-0400
TZOFFSETTO:-0500
TZNAME:EST
DTSTART:20251102T060000
END:STANDARD
BEGIN:DAYLIGHT
TZOFFSETFROM:-0500
TZOFFSETTO:-0400
TZNAME:EDT
DTSTART:20260308T070000
END:DAYLIGHT
BEGIN:STANDARD
TZOFFSETFROM:-0400
TZOFFSETTO:-0500
TZNAME:EST
DTSTART:20261101T060000
END:STANDARD
END:VTIMEZONE
BEGIN:VEVENT
DTSTART;TZID=America/New_York:20250311T235000
DTEND;TZID=America/New_York:20250311T235000
DTSTAMP:20260421T130528
CREATED:20241010T194158Z
LAST-MODIFIED:20250623T142602Z
UID:1126-1741737000-1741737000@store.thepaperbagplayers.org
SUMMARY:Brooklyn Kumble Theater – Tuesday March 11\, 2025\, 11:50am
DESCRIPTION:WE START TO SING! – Brooklyn Kumble Theater – March 11\, 2025 11:50am\n				\n			\n				\n				\n				\n				\n				\n				\n				\n					\nKumble Theater\nLong Island University\n1 University Plaza\nBrooklyn\, NY 11201 \n\n				\n			\n				\n				\n				\n				\n				\n				\n				\n					236 in stock \n\n	\n	\n		\n		\n		WE START TO SING! - Brooklyn Kumble Theater - March 11\, 2025 11:50am quantity\n	\n	\n\n		Add to cart
URL:https://store.thepaperbagplayers.org/shows/brooklyn-kumble-theater-tuesday-march-11-2025-1150am/
LOCATION:Kumble Theater\, Long Island University Brooklyn\, 1 University Plaza\, Brooklyn\, NY\, 11201\, United States
CATEGORIES:NYC - Brooklyn - Downtown - Past Shows,Past Shows
ATTACH;FMTTYPE=image/jpeg:https://store.thepaperbagplayers.org/wp-content/uploads/2024/09/plumbers.jpg
END:VEVENT
BEGIN:VEVENT
DTSTART;TZID=America/New_York:20250311T101500
DTEND;TZID=America/New_York:20250311T111500
DTSTAMP:20260421T130528
CREATED:20241010T193816Z
LAST-MODIFIED:20250623T142618Z
UID:1121-1741688100-1741691700@store.thepaperbagplayers.org
SUMMARY:Brooklyn Kumble Theater – Tuesday March 11\, 2025\, 10:15am
DESCRIPTION:WE START TO SING! – Brooklyn Kumble Theater – March 11\, 2025 10:15am\n				\n			\n				\n				\n				\n				\n				\n				\n				\n					\nKumble Theater\nLong Island University\n1 University Plaza\nBrooklyn\, NY 11201 \n\n				\n			\n				\n				\n				\n				\n				\n				\n				\n					20 in stock \n\n	\n	\n		\n		\n		WE START TO SING! - Brooklyn Kumble Theater - March 11\, 2025 10:15am quantity\n	\n	\n\n		Add to cart
URL:https://store.thepaperbagplayers.org/shows/brooklyn-kumble-theater-tuesday-march-11-2025-1015am/
LOCATION:Kumble Theater\, Long Island University Brooklyn\, 1 University Plaza\, Brooklyn\, NY\, 11201\, United States
CATEGORIES:NYC - Brooklyn - Downtown - Past Shows,Past Shows
ATTACH;FMTTYPE=image/jpeg:https://store.thepaperbagplayers.org/wp-content/uploads/2024/09/bowling.jpg
END:VEVENT
BEGIN:VEVENT
DTSTART;TZID=America/New_York:20250211T115000
DTEND;TZID=America/New_York:20250211T125000
DTSTAMP:20260421T130528
CREATED:20240930T174929Z
LAST-MODIFIED:20250623T142722Z
UID:987-1739274600-1739278200@store.thepaperbagplayers.org
SUMMARY:Brooklyn Kumble Theater – Tuesday February 11\, 2025\, 11:50am
DESCRIPTION:WE START TO SING! – Brooklyn Kumble Theater – February 11\, 2025 11:50am\n				\n			\n				\n				\n				\n				\n				\n				\n				\n					\nKumble Theater\nLong Island University\n1 University Plaza\nBrooklyn\, NY 11201 \n\n				\n			\n				\n				\n				\n				\n				\n				\n				\n					144 in stock \n\n	\n	\n		\n		\n		WE START TO SING! - Brooklyn Kumble Theater - February 11\, 2025 11:50am quantity\n	\n	\n\n		Add to cart
URL:https://store.thepaperbagplayers.org/shows/brooklyn-kumble-theater-tuesday-february-11-2025-1150am/
LOCATION:Kumble Theater\, Long Island University Brooklyn\, 1 University Plaza\, Brooklyn\, NY\, 11201\, United States
CATEGORIES:NYC - Brooklyn - Downtown - Past Shows,Past Shows
ATTACH;FMTTYPE=image/jpeg:https://store.thepaperbagplayers.org/wp-content/uploads/2024/09/the_whale_and_the_girl.jpg
END:VEVENT
BEGIN:VEVENT
DTSTART;TZID=America/New_York:20250211T101500
DTEND;TZID=America/New_York:20250211T111500
DTSTAMP:20260421T130528
CREATED:20240930T174456Z
LAST-MODIFIED:20250623T142736Z
UID:984-1739268900-1739272500@store.thepaperbagplayers.org
SUMMARY:Brooklyn Kumble Theater – Tuesday February 11\, 2025\, 10:15am
DESCRIPTION:WE START TO SING! – Brooklyn Kumble Theater – February 11\, 2025 10:15am\n				\n			\n				\n				\n				\n				\n				\n				\n				\n					\nKumble Theater\nLong Island University\n1 University Plaza\nBrooklyn\, NY 11201 \n\n				\n			\n				\n				\n				\n				\n				\n				\n				\n					24 in stock \n\n	\n	\n		\n		\n		WE START TO SING! - Brooklyn Kumble Theater - February 11\, 2025 10:15am quantity\n	\n	\n\n		Add to cart
URL:https://store.thepaperbagplayers.org/shows/brooklyn-kumble-theater-tuesday-february-11-2025-1015am/
LOCATION:Kumble Theater\, Long Island University Brooklyn\, 1 University Plaza\, Brooklyn\, NY\, 11201\, United States
CATEGORIES:NYC - Brooklyn - Downtown - Past Shows,Past Shows
ATTACH;FMTTYPE=image/jpeg:https://store.thepaperbagplayers.org/wp-content/uploads/2024/09/bowling.jpg
END:VEVENT
BEGIN:VEVENT
DTSTART;TZID=America/New_York:20250210T120000
DTEND;TZID=America/New_York:20250210T130000
DTSTAMP:20260421T130528
CREATED:20240930T172043Z
LAST-MODIFIED:20250623T142751Z
UID:975-1739188800-1739192400@store.thepaperbagplayers.org
SUMMARY:Brooklyn Kumble Theater – Monday February 10\, 2025\, 11:50am
DESCRIPTION:WE START TO SING! – Brooklyn Kumble Theater – February 10\, 2025 11:50am\n				\n			\n				\n				\n				\n				\n				\n				\n				\n					\nKumble Theater\nLong Island University\n1 University Plaza\nBrooklyn\, NY 11201 \n\n				\n			\n				\n				\n				\n				\n				\n				\n				\n					6 in stock \n\n	\n	\n		\n		\n		WE START TO SING! - Brooklyn Kumble Theater - February 10\, 2025 11:50am quantity\n	\n	\n\n		Add to cart
URL:https://store.thepaperbagplayers.org/shows/brooklyn-kumble-theater-monday-february-10-2025-1150am/
LOCATION:Kumble Theater\, Long Island University Brooklyn\, 1 University Plaza\, Brooklyn\, NY\, 11201\, United States
CATEGORIES:NYC - Brooklyn - Downtown - Past Shows,Past Shows
ATTACH;FMTTYPE=image/jpeg:https://store.thepaperbagplayers.org/wp-content/uploads/2024/09/go_to_bed.jpg
END:VEVENT
BEGIN:VEVENT
DTSTART;TZID=America/New_York:20250210T101500
DTEND;TZID=America/New_York:20250210T111500
DTSTAMP:20260421T130528
CREATED:20240930T173241Z
LAST-MODIFIED:20250623T142805Z
UID:979-1739182500-1739186100@store.thepaperbagplayers.org
SUMMARY:Brooklyn Kumble Theater – Monday February 10\, 2025\, 10:15am
DESCRIPTION:WE START TO SING! – Brooklyn Kumble Theater – February 10\, 2025 10:15am\n				\n			\n				\n				\n				\n				\n				\n				\n				\n					\nKumble Theater\nLong Island University\n1 University Plaza\nBrooklyn\, NY 11201 \n\n				\n			\n				\n				\n				\n				\n				\n				\n				\n					6 in stock \n\n	\n	\n		\n		\n		WE START TO SING! - Brooklyn Kumble Theater - February 10\, 2025 10:15am quantity\n	\n	\n\n		Add to cart
URL:https://store.thepaperbagplayers.org/shows/brooklyn-kumble-theater-monday-february-10-2025-1015am/
LOCATION:Kumble Theater\, Long Island University Brooklyn\, 1 University Plaza\, Brooklyn\, NY\, 11201\, United States
CATEGORIES:NYC - Brooklyn - Downtown - Past Shows,Past Shows
ATTACH;FMTTYPE=image/jpeg:https://store.thepaperbagplayers.org/wp-content/uploads/2024/09/go_fishing.jpg
END:VEVENT
BEGIN:VEVENT
DTSTART;TZID=America/New_York:20250123T120000
DTEND;TZID=America/New_York:20250123T130000
DTSTAMP:20260421T130528
CREATED:20240930T171016Z
LAST-MODIFIED:20250623T142939Z
UID:971-1737633600-1737637200@store.thepaperbagplayers.org
SUMMARY:Brooklyn Kumble Theater – Thursday January 23\, 2025\, 11:50am
DESCRIPTION:WE START TO SING! – Brooklyn Kumble Theater – January 23\, 2025 11:50am\n				\n			\n				\n				\n				\n				\n				\n				\n				\n					\nKumble Theater\nLong Island University\n1 University Plaza\nBrooklyn\, NY 11201 \n\n				\n			\n				\n				\n				\n				\n				\n				\n				\n					77 in stock \n\n	\n	\n		\n		\n		WE START TO SING! - Brooklyn Kumble Theater - January 23\, 2025 11:50am quantity\n	\n	\n\n		Add to cart
URL:https://store.thepaperbagplayers.org/shows/brooklyn-kumble-theater-thursday-january-23-2025-1150am/
LOCATION:Kumble Theater\, Long Island University Brooklyn\, 1 University Plaza\, Brooklyn\, NY\, 11201\, United States
CATEGORIES:NYC - Brooklyn - Downtown - Past Shows,Past Shows
ATTACH;FMTTYPE=image/jpeg:https://store.thepaperbagplayers.org/wp-content/uploads/2024/09/plumbers.jpg
END:VEVENT
BEGIN:VEVENT
DTSTART;TZID=America/New_York:20250123T101500
DTEND;TZID=America/New_York:20250123T111500
DTSTAMP:20260421T130528
CREATED:20240930T170111Z
LAST-MODIFIED:20250623T142954Z
UID:963-1737627300-1737630900@store.thepaperbagplayers.org
SUMMARY:Brooklyn Kumble Theater – Thursday January 23\, 2025\, 10:15am
DESCRIPTION:WE START TO SING! – Brooklyn Kumble Theater – January 23\, 2025 10:15am\n				\n			\n				\n				\n				\n				\n				\n				\n				\n					\nKumble Theater\nLong Island University\n1 University Plaza\nBrooklyn\, NY 11201 \n\n				\n			\n				\n				\n				\n				\n				\n				\n				\n					81 in stock \n\n	\n	\n		\n		\n		WE START TO SING! - Brooklyn Kumble Theater - January 23\, 2025 10:15am quantity\n	\n	\n\n		Add to cart
URL:https://store.thepaperbagplayers.org/shows/brooklyn-kumble-theater-thursday-january-23-2025/
LOCATION:Kumble Theater\, Long Island University Brooklyn\, 1 University Plaza\, Brooklyn\, NY\, 11201\, United States
CATEGORIES:NYC - Brooklyn - Downtown - Past Shows,Past Shows
ATTACH;FMTTYPE=image/jpeg:https://store.thepaperbagplayers.org/wp-content/uploads/2024/09/blue_yellow_boxes.jpg
END:VEVENT
END:VCALENDAR