BEGIN:VCALENDAR
VERSION:2.0
PRODID:-//The Paper Bag Players Store - ECPv6.15.14//NONSGML v1.0//EN
CALSCALE:GREGORIAN
METHOD:PUBLISH
X-ORIGINAL-URL:https://store.thepaperbagplayers.org
X-WR-CALDESC:Events for The Paper Bag Players Store
REFRESH-INTERVAL;VALUE=DURATION:PT1H
X-Robots-Tag:noindex
X-PUBLISHED-TTL:PT1H
BEGIN:VTIMEZONE
TZID:America/New_York
BEGIN:DAYLIGHT
TZOFFSETFROM:-0500
TZOFFSETTO:-0400
TZNAME:EDT
DTSTART:20240310T070000
END:DAYLIGHT
BEGIN:STANDARD
TZOFFSETFROM:-0400
TZOFFSETTO:-0500
TZNAME:EST
DTSTART:20241103T060000
END:STANDARD
BEGIN:DAYLIGHT
TZOFFSETFROM:-0500
TZOFFSETTO:-0400
TZNAME:EDT
DTSTART:20250309T070000
END:DAYLIGHT
BEGIN:STANDARD
TZOFFSETFROM:-0400
TZOFFSETTO:-0500
TZNAME:EST
DTSTART:20251102T060000
END:STANDARD
BEGIN:DAYLIGHT
TZOFFSETFROM:-0500
TZOFFSETTO:-0400
TZNAME:EDT
DTSTART:20260308T070000
END:DAYLIGHT
BEGIN:STANDARD
TZOFFSETFROM:-0400
TZOFFSETTO:-0500
TZNAME:EST
DTSTART:20261101T060000
END:STANDARD
END:VTIMEZONE
BEGIN:VEVENT
DTSTART;TZID=America/New_York:20250122T103000
DTEND;TZID=America/New_York:20250122T113000
DTSTAMP:20260422T073723
CREATED:20240911T165933Z
LAST-MODIFIED:20250623T143009Z
UID:337-1737541800-1737545400@store.thepaperbagplayers.org
SUMMARY:Morristown\, NJ - Wednesday\, January 22\, 2025
DESCRIPTION:WE START TO SING! – Morristown\, NJ – January 22\, 2025\n				\n			\n				\n				\n				\n				\n				\n				\n				\n					\n\n\n\n\n\n\n\n\nMayo Performing Arts Center (MPAC)\n100 South Street\nMorristown\, NJ 07960 \n\n\n\n\n\n\n\n\n\n				\n			\n				\n				\n				\n				\n				\n				\n				\n					741 in stock \n\n	\n	\n		\n		\n		WE START TO SING! - Morristown\, NJ - January 22\, 2025 quantity\n	\n	\n\n		Add to cart
URL:https://store.thepaperbagplayers.org/shows/morristown-nj-wednesday-january-22-2025/
LOCATION:Mayo Performing Arts Center (MPAC)\, 100 South Street\, Morristown\, NJ\, 07960\, United States
CATEGORIES:NJ - Morristown - Past Shows,Past Shows
ATTACH;FMTTYPE=image/jpeg:https://store.thepaperbagplayers.org/wp-content/uploads/2024/09/go_fishing.jpg
END:VEVENT
END:VCALENDAR